BEGIN:VCALENDAR
VERSION:2.0
PRODID:-//eventon.com NONSGML v1.0//EN
CALSCALE:GREGORIAN
METHOD:PUBLISH
BEGIN:VEVENT
UID:69e98f3186213
DTSTAMP:20260423T031705Z
DTSTART:20260429T100000Z
DTEND:20260429T150000Z
LOCATION:Student Centre @ Progress Campus 941 Progress Ave
SUMMARY:Board Game Wednesday
DESCRIPTION:\nhttps://ccsai.ca/Events/board-game-wednesday/var/ri-4.l-L1
URL:https://ccsai.ca/Events/board-game-wednesday/var/ri-4.l-L1
END:VEVENT
END:VCALENDAR