BEGIN:VCALENDAR
VERSION:2.0
PRODID:-//eventon.com NONSGML v1.0//EN
CALSCALE:GREGORIAN
METHOD:PUBLISH
BEGIN:VEVENT
UID:69e99096aaf61
DTSTAMP:20260423T032302Z
DTSTART:20260423T100000Z
DTEND:20260423T150000Z
LOCATION:Student Centre @ Progress Campus 941 Progress Ave
SUMMARY:Movie Thursday
DESCRIPTION:\nhttps://ccsai.ca/Events/movie-thursday/var/ri-3.l-L1
URL:https://ccsai.ca/Events/movie-thursday/var/ri-3.l-L1
END:VEVENT
END:VCALENDAR